BEGIN:VCALENDAR
VERSION:2.0
PRODID:-//eventon.com NONSGML v1.0//EN
CALSCALE:GREGORIAN
METHOD:PUBLISH
BEGIN:VEVENT
UID:69ec9e0f10506
DTSTAMP:20260425T105719Z
DTSTART:20230221T160000Z
DTEND:20230221T165500Z
LOCATION:
SUMMARY:Reduce Time to Job One With Virtual Commissioning
DESCRIPTION:The Setup and Ramp-Up of the Control Systems implementation for
  robotics and automation are called “Commissioning.” Traditionally\,  t
 his step is done after the physical system is built on the shop floor. Prod
 uction cannot begin until that is completed. Digital twins (simulations) of
  Plants\,  Production lines\,  or individual Cells that interface[..]\nhttp
 s://pmcorp.com/events/reduce-time-to-job-one-with-virtual-commissioning/
URL:https://pmcorp.com/events/reduce-time-to-job-one-with-virtual-commissioning/
END:VEVENT
END:VCALENDAR