BEGIN:VCALENDAR
VERSION:2.0
PRODID:-//eventon.com NONSGML v1.0//EN
CALSCALE:GREGORIAN
METHOD:PUBLISH
BEGIN:VEVENT
UID:69ec9dacb8d47
DTSTAMP:20260425T105540Z
DTSTART:20230822T150000Z
DTEND:20230822T155000Z
LOCATION:
SUMMARY:9 Checkpoints Before Starting A Simulation Project
DESCRIPTION:Discrete Event Simulation (DES) is a formidable tool for modeli
 ng and analyzing complex systems. However\,  it&#8217;s vital to acknowledg
 e that DES isn&#8217;t a one-size-fits-all solution for every simulation ne
 ed. Join us for an insightful webinar as we navigate through scenarios\,  s
 hedding light on when and why DES may not be[..]\nhttps://pmcorp.com/events
 /9-check-points-before-starting-a-simulation-project/
URL:https://pmcorp.com/events/9-check-points-before-starting-a-simulation-project/
END:VEVENT
END:VCALENDAR