BEGIN:VCALENDAR
VERSION:2.0
PRODID:-//eventon.com NONSGML v1.0//EN
CALSCALE:GREGORIAN
METHOD:PUBLISH
BEGIN:VEVENT
UID:69e892faacebf
DTSTAMP:20260422T092058Z
DTSTART:20230921T150000Z
DTEND:20230921T155000Z
LOCATION:
SUMMARY:Why MODAPTS? A Simplified Time Study
DESCRIPTION:Join us for this webinar that promises to revolutionize the way
  your organization operates and boost productivity across various industrie
 s\,  including manufacturing\,  food and beverage\,  processing\,  warehous
 ing\,  and others. Discover the power of time and motion studies with\,  &#
 8220;MODAPTS&#8221; a tried and tested approach that can deliver immediate 
 and lasting[..]\nhttps://pmcorp.com/events/why-modapts-a-simplified-time-st
 udy/
URL:https://pmcorp.com/events/why-modapts-a-simplified-time-study/
END:VEVENT
END:VCALENDAR