BEGIN:VCALENDAR
VERSION:2.0
PRODID:-//eventon.com NONSGML v1.0//EN
CALSCALE:GREGORIAN
METHOD:PUBLISH
BEGIN:VEVENT
UID:69ec9dbbdb80a
DTSTAMP:20260425T105555Z
DTSTART:20231012T150000Z
DTEND:20231012T160000Z
LOCATION:
SUMMARY:Reality Capture and Simulation: Real Applications of Digital Twin For Your Facility
DESCRIPTION:Discover the Future of Facility Management and Optimization Wit
 h Reality Capture and Simulation Applications. Join us for an enlightening 
 exploration into the transformative world of reality capture and simulation
 \,  where we unveil the tangible benefits of digital twin technology for fa
 cility management and optimization. Webinar Overview: In an era where[..]\n
 https://pmcorp.com/events/reality-capture-and-simulation-real-applications-
 of-digital-twin-for-your-facility/
URL:https://pmcorp.com/events/reality-capture-and-simulation-real-applications-of-digital-twin-for-your-facility/
END:VEVENT
END:VCALENDAR