BEGIN:VCALENDAR
VERSION:2.0
PRODID:-//eventon.com NONSGML v1.0//EN
CALSCALE:GREGORIAN
METHOD:PUBLISH
BEGIN:VEVENT
UID:69ec9dad64cf1
DTSTAMP:20260425T105541Z
DTSTART:20231116T160000Z
DTEND:20231116T165500Z
LOCATION:
SUMMARY:Master Manufacturing Productivity: 5 Essential Features of Scheduling Software
DESCRIPTION:Are you determined to take your manufacturing processes to the 
 next level and enhance productivity? Join us for an insightful webinar wher
 e we unveil the five indispensable features of cutting-edge scheduling soft
 ware that can transform your manufacturing operations and propel your busin
 ess toward unprecedented success. Key areas that will be[..]\nhttps://pmcor
 p.com/events/master-manufacturing-productivity-5-essential-features-of-sche
 duling-software-2/
URL:https://pmcorp.com/events/master-manufacturing-productivity-5-essential-features-of-scheduling-software-2/
END:VEVENT
END:VCALENDAR