BEGIN:VCALENDAR
VERSION:2.0
PRODID:-//eventon.com NONSGML v1.0//EN
CALSCALE:GREGORIAN
METHOD:PUBLISH
BEGIN:VEVENT
UID:69eca079eba04
DTSTAMP:20260425T110737Z
DTSTART:20240912T150000Z
DTEND:20240912T160000Z
LOCATION:
SUMMARY:Critical Role of Manufacturing Simulation In Your System's Performance
DESCRIPTION:Join us for an insightful webinar on how manufacturing enterpri
 ses can harness the potential of simulation analysis to optimize their oper
 ations\,  streamline processes\,  and boost profitability. Rapid advances i
 n computer software\,  hardware\,  and analytical methods have made simulat
 ion analysis more powerful and accessible than ever before. In this webinar
 \,  we[..]\nhttps://pmcorp.com/events/critical-role-of-manufacturing-simula
 tion-in-your-systems-performance-2024fall/
URL:https://pmcorp.com/events/critical-role-of-manufacturing-simulation-in-your-systems-performance-2024fall/
END:VEVENT
END:VCALENDAR