BEGIN:VCALENDAR
VERSION:2.0
PRODID:-//eventon.com NONSGML v1.0//EN
CALSCALE:GREGORIAN
METHOD:PUBLISH
BEGIN:VEVENT
UID:69ec9dadd3c1d
DTSTAMP:20260425T105541Z
DTSTART:20241212T160000Z
DTEND:20241212T170000Z
LOCATION:
SUMMARY:Improve Operations During Economic Uncertainty: Choose the Right Simulation Software
DESCRIPTION:Join 40-year Industrial Engineering veteran Ed Williams in this
  informative webinar\,  where you&#8217;ll learn how simulation modeling ca
 n drive operational improvement. This session combines practical guidance o
 n selecting the right simulation software with insights into leveraging dis
 crete event simulation to enhance continuous improvement efforts. Presenter
 : Ed Williams &nbsp; Click Here[..]\nhttps://pmcorp.com/events/improve-oper
 ations-during-economic-uncertainty-choose-the-right-simulation-software/
URL:https://pmcorp.com/events/improve-operations-during-economic-uncertainty-choose-the-right-simulation-software/
END:VEVENT
END:VCALENDAR