BEGIN:VCALENDAR
VERSION:2.0
PRODID:-//eventon.com NONSGML v1.0//EN
CALSCALE:GREGORIAN
METHOD:PUBLISH
BEGIN:VEVENT
UID:69ec9d5baf395
DTSTAMP:20260425T105419Z
DTSTART:20250129T160000Z
DTEND:20250129T165000Z
LOCATION:
SUMMARY:Visualize & Optimize Operations: A FlexSim Simulation Primer
DESCRIPTION:Join us on January 29th at 11 AM for a focused webinar on simul
 ation modeling with FlexSim\,  designed to drive optimization and improveme
 nts across a wide array of industries. This session will demonstrate how Fl
 exSim’s advanced simulation tools\,  combined with PMC’s expertise\,  c
 an help you visualize\,  analyze\,  and enhance your[..]\nhttps://pmcorp.co
 m/events/visualize-optimize-operations-a-flexsim-simulation-primer/
URL:https://pmcorp.com/events/visualize-optimize-operations-a-flexsim-simulation-primer/
END:VEVENT
END:VCALENDAR