BEGIN:VCALENDAR
VERSION:2.0
PRODID:-//eventon.com NONSGML v1.0//EN
CALSCALE:GREGORIAN
METHOD:PUBLISH
BEGIN:VEVENT
UID:69e78bf025c3f
DTSTAMP:20260421T143840Z
DTSTART:20250327T150000Z
DTEND:20250327T160000Z
LOCATION:
SUMMARY:AIA Training - Understanding Your Choices in Reality Capture
DESCRIPTION:Presenter: Chris Mounts\,  Director of Laser Scanning at PMC Ne
 w technology in Reality Capture is constantly evolving. How do you know wha
 t deliverables you will receive from these different technology options? We
 &#8217;ll explore this to give you better insight into understanding differ
 ent outputs and more! Accuracy levels and appropriate uses[..]\nhttps://pmc
 orp.com/events/aia-training-understanding-your-choices-in-reality-capture-2
 025/
URL:https://pmcorp.com/events/aia-training-understanding-your-choices-in-reality-capture-2025/
END:VEVENT
END:VCALENDAR